BEGIN:VCALENDAR
VERSION:2.0
PRODID:-//eventon.com NONSGML v1.0//EN
BEGIN:VEVENT
UID:69ea683f55d2d
DTSTAMP:20260423T184311
DTSTART:20200131T120000Z
DTEND:20200202T150000Z
LOCATION:Washington Hilton Hotel 1919 Connecticut Ave NW\,  Washington\,  DC 20009
SUMMARY:ShmooCon
DESCRIPTION: ShmooCon
END:VEVENT
END:VCALENDAR