BEGIN:VCALENDAR
VERSION:2.0
PRODID:-//eventon.com NONSGML v1.0//EN
BEGIN:VEVENT
UID:69ea523c2f706
DTSTAMP:20260423T170916
DTSTART:20200506T080000Z
DTEND:20200507T170000Z
LOCATION:Mariott Marquis Houston 1777 Walker St\,  Houston\,  TX 77010
SUMMARY:HoustonSecCon
DESCRIPTION: HoustonSecCon
END:VEVENT
END:VCALENDAR