BEGIN:VCALENDAR
VERSION:2.0
PRODID:-//eventon.com NONSGML v1.0//EN
BEGIN:VEVENT
UID:69ea3d17d2b6b
DTSTAMP:20260423T153903
DTSTART:20200804T080000Z
DTEND:20200805T170000Z
LOCATION:Tuscany Suites & Casinos 255 E Flamingo Rd\,  Las Vegas\,  NV 89169
SUMMARY:BSides Las Vegas
DESCRIPTION: BSides Las Vegas
END:VEVENT
END:VCALENDAR