BEGIN:VCALENDAR
VERSION:2.0
PRODID:-//eventon.com NONSGML v1.0//EN
BEGIN:VEVENT
UID:69ea282f831ee
DTSTAMP:20260423T140951
DTSTART:20201023T080000Z
DTEND:20201025T170000Z
LOCATION:The Lodge at Deadwood 100 Pine Crest Drive\,  Deadwood\,  SD 57732
SUMMARY:Wild West Hackin' Fest
DESCRIPTION: Wild West Hackin' Fest
END:VEVENT
END:VCALENDAR