BEGIN:VCALENDAR
VERSION:2.0
PRODID:-//eventon.com NONSGML v1.0//EN
BEGIN:VEVENT
UID:69ea126686264
DTSTAMP:20260423T123654
DTSTART:20200311T080000Z
DTEND:20200313T170000Z
LOCATION:The Lodge at Deadwood 100 Pine Crest Drive\,  Deadwood\,  SD 57732
SUMMARY:Wild West Hackin' Fest - San Diego
DESCRIPTION: Wild West Hackin' Fest - San Diego
END:VEVENT
END:VCALENDAR