BEGIN:VCALENDAR
VERSION:2.0
PRODID:-//eventon.com NONSGML v1.0//EN
BEGIN:VEVENT
UID:69e9fca51d51d
DTSTAMP:20260423T110405
DTSTART:20200517T080000Z
DTEND:20200517T170000Z
LOCATION:Astor Crowne Plaza 739 Canal St New Orleans\,  LA 70130
SUMMARY:NolaCon
DESCRIPTION: NolaCon
END:VEVENT
END:VCALENDAR