BEGIN:VCALENDAR
VERSION:2.0
PRODID:-//eventon.com NONSGML v1.0//EN
BEGIN:VEVENT
UID:69e9e8ae9d73e
DTSTAMP:20260423T093854
DTSTART:20200806T080000Z
DTEND:20200809T170000Z
LOCATION:Paris\,  Ballys\,  & Planet Hollywood 3667 S Las Vegas Blvd\,  Las Vegas\,  NV 89109
SUMMARY:DEF CON
DESCRIPTION: DEF CON
END:VEVENT
END:VCALENDAR