BEGIN:VCALENDAR
VERSION:2.0
PRODID:-//eventon.com NONSGML v1.0//EN
BEGIN:VEVENT
UID:69e9d50723e4d
DTSTAMP:20260423T081503
DTSTART:20200801T080000Z
DTEND:20200806T170000Z
LOCATION:Mandalay Bay 3950 S Las Vegas Blvd\,  Las Vegas\,  NV 89119
SUMMARY:Black Hat
DESCRIPTION: Black Hat
END:VEVENT
END:VCALENDAR