BEGIN:VCALENDAR
VERSION:2.0
PRODID:-//eventon.com NONSGML v1.0//EN
BEGIN:VEVENT
UID:69e748b89f0dd
DTSTAMP:20260421T095152
DTSTART:20200609T080000Z
DTEND:20200611T170000Z
LOCATION:Colorado Convention Center 700 14th St\,  Denver\,  CO 80202
SUMMARY:Rocky Mountain Information Security Conference
DESCRIPTION: Rocky Mountain Information Security Conference
END:VEVENT
END:VCALENDAR