BEGIN:VCALENDAR
VERSION:2.0
PRODID:-//eventon.com NONSGML v1.0//EN
BEGIN:VEVENT
UID:69e736dfa5295
DTSTAMP:20260421T083543
DTSTART:20200604T080000Z
DTEND:20200605T170000Z
LOCATION:Ameristar Casino & Resort One Ameristar Blvd. St. Charles\,  MO 63301
SUMMARY:ShowMeCon
DESCRIPTION: ShowMeCon
END:VEVENT
END:VCALENDAR