BEGIN:VCALENDAR
VERSION:2.0
PRODID:-//eventon.com NONSGML v1.0//EN
BEGIN:VEVENT
UID:69e749f156867
DTSTAMP:20260421T095705
DTSTART:20200402T090000Z
DTEND:20200403T180000Z
LOCATION:Wisconsin Center 400 W. Wisconsin Avenue Milwaukee\,  WI 53203
SUMMARY:Cyphercon
DESCRIPTION: Cyphercon
END:VEVENT
END:VCALENDAR