BEGIN:VCALENDAR
VERSION:2.0
PRODID:-//eventon.com NONSGML v1.0//EN
BEGIN:VEVENT
UID:69e9d44a42582
DTSTAMP:20260423T081154
DTSTART:20200327T090000Z
DTEND:20200329T180000Z
LOCATION:Dakota State University 820 Washington Ave N\,  Madison\,  SD 57042
SUMMARY:Dakotacon
DESCRIPTION: Dakotacon
END:VEVENT
END:VCALENDAR