BEGIN:VCALENDAR
VERSION:2.0
PRODID:-//eventon.com NONSGML v1.0//EN
BEGIN:VEVENT
UID:69e9e7ba2a963
DTSTAMP:20260423T093450
DTSTART:20200508T090000Z
DTEND:20200509T180000Z
LOCATION:TBD 
SUMMARY:Thotcon
DESCRIPTION: Thotcon
END:VEVENT
END:VCALENDAR