BEGIN:VCALENDAR
VERSION:2.0
PRODID:-//eventon.com NONSGML v1.0//EN
BEGIN:VEVENT
UID:69e9fb32bdf7b
DTSTAMP:20260423T105754
DTSTART:20200508T090000Z
DTEND:20200509T180000Z
LOCATION:Plexpod Westport Commons 300 E 39th St\,  Kansas City\,  MO 64111
SUMMARY:BSides KC
DESCRIPTION: BSides KC
END:VEVENT
END:VCALENDAR