BEGIN:VCALENDAR
VERSION:2.0
PRODID:-//eventon.com NONSGML v1.0//EN
BEGIN:VEVENT
UID:69ea139d38741
DTSTAMP:20260423T124205
DTSTART:20200418T090000Z
DTEND:20200418T180000Z
LOCATION:Grandview University 1200 Grandview Ave\,  Des Moines\,  IA 50316
SUMMARY:BSides Iowa
DESCRIPTION: BSides Iowa
END:VEVENT
END:VCALENDAR