BEGIN:VCALENDAR
VERSION:2.0
PRODID:-//eventon.com NONSGML v1.0//EN
BEGIN:VEVENT
UID:69ea2e6ef1f74
DTSTAMP:20260423T143630
DTSTART:20200325T090000Z
DTEND:20200328T180000Z
LOCATION:Embassy Suites by Hilton Omaha Downtown Old Market 555 S 10th St\,  Omaha\,  NE 68102
SUMMARY:KernelCon
DESCRIPTION: KernelCon
END:VEVENT
END:VCALENDAR