BEGIN:VCALENDAR
VERSION:2.0
PRODID:-//eventon.com NONSGML v1.0//EN
BEGIN:VEVENT
UID:69ea57d5443e8
DTSTAMP:20260423T173309
DTSTART:20200501T010000Z
DTEND:20200503T010000Z
LOCATION:Hotel Ella 1900 Rio Grande
SUMMARY:InfoSec Southwest
DESCRIPTION: InfoSec Southwest
END:VEVENT
END:VCALENDAR