BEGIN:VCALENDAR
VERSION:2.0
PRODID:-//eventon.com NONSGML v1.0//EN
BEGIN:VEVENT
UID:69ea816bae468
DTSTAMP:20260423T203035
DTSTART:20200330T010000Z
DTEND:20200401T010000Z
LOCATION:Disneys Contemporary Resort 4600 North World Dr. Lake Buena Vista
SUMMARY:InfoSec World
DESCRIPTION: InfoSec World
END:VEVENT
END:VCALENDAR