BEGIN:VCALENDAR
VERSION:2.0
PRODID:-//eventon.com NONSGML v1.0//EN
BEGIN:VEVENT
UID:69ea9440ab7d0
DTSTAMP:20260423T215056
DTSTART:20200517T080000Z
DTEND:20200518T170000Z
LOCATION:Seacoast Suites 5101 Collins Ave
SUMMARY:Hack Miami
DESCRIPTION: Hack Miami
END:VEVENT
END:VCALENDAR