BEGIN:VCALENDAR
VERSION:2.0
PRODID:-//eventon.com NONSGML v1.0//EN
BEGIN:VEVENT
UID:69ea93489bee0
DTSTAMP:20260423T214648
DTSTART:20201029T080000Z
DTEND:20201030T170000Z
LOCATION:Renaissance Atlanta Waverly 2450 Galleria Pkwy
SUMMARY:Hacker Halted
DESCRIPTION: Hacker Halted
END:VEVENT
END:VCALENDAR