BEGIN:VCALENDAR
VERSION:2.0
PRODID:-//eventon.com NONSGML v1.0//EN
BEGIN:VEVENT
UID:69eac38308a26
DTSTAMP:20260424T011235
DTSTART:20200410T080000Z
DTEND:20200411T170000Z
LOCATION:Embassy Suites Charlotte 401 East Martin Luther King Jr. Blvd
SUMMARY:CarolinaCon
DESCRIPTION: CarolinaCon
END:VEVENT
END:VCALENDAR