BEGIN:VCALENDAR
VERSION:2.0
PRODID:-//eventon.com NONSGML v1.0//EN
BEGIN:VEVENT
UID:69eac37ea757c
DTSTAMP:20260424T011230
DTSTART:20201106T080000Z
DTEND:20201108T170000Z
LOCATION:Clarion Inn & Suites Murfreesboro 2227 Old Fort Parkway
SUMMARY:Phreaknic 24
DESCRIPTION: Phreaknic 24
END:VEVENT
END:VCALENDAR